BEGIN:VCALENDAR
VERSION:2.0
PRODID:-//Stadtgeschichte München//DE
CALSCALE:GREGORIAN
BEGIN:VEVENT
UID:19975@stadtgeschichte-muenchen.de
SUMMARY:Schloss Nymphenburgs Fassaden – bayerisch-französische Architektur
DESCRIPTION:&lt;p&gt;&lt;em&gt;In Kooperation mit der VHS München&lt;/em&gt;&lt;/p&gt; 
DTSTART:20220213T140000
DTEND:20220213T153000
LOCATION:vor dem Hauptschloss stadtseitig
ORGANIZER:Bayerische Schlösserverwaltung
END:VEVENT
END:VCALENDAR