BEGIN:VCALENDAR
VERSION:2.0
PRODID:-//Stadtgeschichte München//DE
CALSCALE:GREGORIAN
BEGIN:VEVENT
UID:1999@stadtgeschichte-muenchen.de
SUMMARY:NS-Spurensuche in Schwabing:
DESCRIPTION:&lt;div&gt;In der Jakob-Klar-Stra&amp;szlig;e haben, wie auch in den umliegenden Stra&amp;szlig;en, vor 1933 viele j&amp;uuml;dische Familien in gut nachbarlichen&amp;nbsp;Verh&amp;auml;ltnissen mit nichtj&amp;uuml;dischen Bewohnern gelebt. Dr. Anna-Jutta Pietsch, die von 1964 bis 1994 in dieser Stra&amp;szlig;e gewohnt hat,&amp;nbsp;berichtet &amp;uuml;ber das grausame Schicksal der j&amp;uuml;dischen Bewohner dieser Stra&amp;szlig;e.&lt;/div&gt;
DTSTART:20120629T170000
DTEND:20120629T183000
LOCATION:Jakob-Klar-Str. 1 
ORGANIZER:MVHS München Mitte   
END:VEVENT
END:VCALENDAR