BEGIN:VCALENDAR
VERSION:2.0
PRODID:-//Stadtgeschichte München//DE
CALSCALE:GREGORIAN
BEGIN:VEVENT
UID:20007@stadtgeschichte-muenchen.de
SUMMARY:Kirche und Park
DESCRIPTION:&lt;p&gt;Die Benediktiner- und Pfarrkirche befindet sich in unmittelbarer Nachbarschaft zu der Parkanlage mit einer spannenden, wechselvollen Geschichte.&lt;br /&gt; Bei der Planung stand noch nicht fest, ob alle ausgeschriebenen Termine eingehalten werden können. Bitte informieren Sie sich auf unserer homepage www.muenchner-bildungswerk.de&lt;br /&gt; Weitere Angebote der Münchner KulTouren finden Sie auf unserer homepage unter der Rubrik Kunst und Kultur.&lt;/p&gt; 
DTSTART:20210922T150000
DTEND:20210922T000000
LOCATION:St. Bonifaz, Eingangsbereich Karlstr. 34 80333 München
ORGANIZER:Münchner Bildungswerk e.V.
END:VEVENT
END:VCALENDAR