BEGIN:VCALENDAR
VERSION:2.0
PRODID:-//Stadtgeschichte München//DE
CALSCALE:GREGORIAN
BEGIN:VEVENT
UID:2001@stadtgeschichte-muenchen.de
SUMMARY:Das Münchner Rathaus und der Stadtrat
DESCRIPTION:&lt;p&gt;Im Stadtrat fallen Entscheidungen, die konkrete Auswirkungen auf das Leben der B&amp;uuml;rgerinnen und B&amp;uuml;rger im M&amp;uuml;nchner Norden&amp;nbsp; haben. Derzeit stehen insbesondere Fragen der Verkehrsentwicklung auf der Tagesordnung, um den wachsenden Stra&amp;szlig;en- und S-Bahnverkehr zu bew&amp;auml;ltigen. Nach dem Besuch einer Ausschusssitzung erl&amp;auml;utert eine Stadtr&amp;auml;tin, wie im Stadtrat gearbeitet wird, welche Entscheidungen f&amp;uuml;r den M&amp;uuml;nchner Norden derzeit anstehen und wie die Interessen der B&amp;uuml;rger/innen in Stadtratsbeschl&amp;uuml;sse Eingang finden.&lt;/p&gt; &lt;p&gt;Rundgang, Besuch einer Ausschusssitzung und anschlie&amp;szlig;ende Diskussion&lt;/p&gt;
DTSTART:20120710T093000
DTEND:20120710T110000
LOCATION:Marienplatz, Fischbrunnen
ORGANIZER:MVHS München Mitte   
END:VEVENT
END:VCALENDAR