BEGIN:VCALENDAR
VERSION:2.0
PRODID:-//Stadtgeschichte München//DE
CALSCALE:GREGORIAN
BEGIN:VEVENT
UID:20022@stadtgeschichte-muenchen.de
SUMMARY:Märkte in München
DESCRIPTION:&lt;p&gt;Die Versorgung mit Lebensmitteln war einst eine große Herausforderung für eine Stadt, die genau geregelt war. Städtisches Wachstum und andere Lebensumstände führten jedoch zu einer ständigen Veränderung des Marktgeschehens. Waren es früher das Vieh, die Grundnahrungsmittel und Salz, die den Hauptteil des Umsatzes ausmachten, so sind es heute Delikatessen, Ferngereistes, aber auch erneut wieder Traditionelles. Ein Marktspaziergang durch die Jahrhunderte!&lt;/p&gt; &lt;p&gt;&amp;nbsp;&lt;/p&gt; 
DTSTART:20211026T103000
DTEND:20211026T123000
LOCATION:Fischbrunnen Marienplatz
ORGANIZER:Münchner Bildungswerk e.V.
END:VEVENT
END:VCALENDAR