BEGIN:VCALENDAR
VERSION:2.0
PRODID:-//Stadtgeschichte München//DE
CALSCALE:GREGORIAN
BEGIN:VEVENT
UID:20031@stadtgeschichte-muenchen.de
SUMMARY:München kompakt
DESCRIPTION:&lt;p&gt;Am Freitag, 13. August, 16.45 Uhr, können Interessierte im Münchner Stadtmuseum, St.-Jakobs-Platz 1, an der Führung „München kompakt“ durch die Ausstellung „Typisch München!“ mit anschließendem Stadtrundgang teilnehmen.&lt;br /&gt; Was ist typisch München und warum? Die Dauerausstellung „Typisch München!“ zeigt Bekanntes, Unbekanntes und auch Unerwartetes aus den Anfängen der „Weltstadt mit Herz“. Auf dem anschließenden Innenstadt-Rundgang erkunden die Teilnehmer*innen „typische“ Münchner Sehenswürdigkeiten. Für alle, die in München leben oder zu Besuch sind und München entdecken oder neu entdecken wollen.&lt;/p&gt; 
DTSTART:20210813T164500
DTEND:20210813T000000
LOCATION:Stadtmuseum
ORGANIZER:Münchner Stadtmuseum
END:VEVENT
END:VCALENDAR