BEGIN:VCALENDAR
VERSION:2.0
PRODID:-//Stadtgeschichte München//DE
CALSCALE:GREGORIAN
BEGIN:VEVENT
UID:20032@stadtgeschichte-muenchen.de
SUMMARY:Das Künstlerhaus als Gesamtkunstwerk
DESCRIPTION:&lt;p&gt;Die Villa Stuck als Künstlerhaus ist das schönste Kunstwerk des Künstlerfürsten Franz von Stuck. In ihr vollendet sich sein Streben nach einer Vereinigung aller Künste. Sie repräsentiert seinen Erfolg und war gleichzeitig die wesentliche Inspirationsquelle seines Schaffens. Welche inspirierende Künstlerhäuser gibt es noch, auch auf anderen Kontinenten? Die Vernetzung der Künstler vollzog sich in Ausstellungsbeteiligungen, Reisen und mittels neuer, exzellenter Kunstzeitschriften. Das Künstlerhaus als Gesamtkunstwerk beschritt neue Wege als Ausdruck der jeweiligen Persönlichkeiten und ihres Stils. Vor diesem Hintergrund begeben wir uns auf eine spannende Reise zu den Atelierwohnhäusern von Claude Monet nach Giverny, Georgia O\'Keeffe in New Mexico, Jacques Majorelle in Marokko und anderen.&lt;/p&gt; &lt;p&gt;In Kooperation mit dem Museum Villa Stuck&lt;/p&gt; 
DTSTART:20210824T180000
DTEND:20210824T193000
LOCATION:
ORGANIZER:MVHS
END:VEVENT
END:VCALENDAR