BEGIN:VCALENDAR
VERSION:2.0
PRODID:-//Stadtgeschichte München//DE
CALSCALE:GREGORIAN
BEGIN:VEVENT
UID:20042@stadtgeschichte-muenchen.de
SUMMARY:Gedenkveranstaltung für die Deportierten und Ermordeten aus der ehemaligen
DESCRIPTION:&lt;p&gt;Jedes Jahr im November wird an die von 1941 bis 1945 aus dem Internierungslager in Berg am Laim deportierten jüdischen Menschen erinnert. Wir laden Sie herzlich ein zu einem Gespräch zwischen Prof. Dr. Marita Krauss, Universität Augsburg, und Prof.Dr. Mirjam Zadoff, Leiterin des NS-Dokumentationszentrums München, über das Thema &quot;Erinnerung gestalten&quot; und einer Präsentation von &quot;Erinnerungsorten&quot; durch Schülerinnen und Schüler des Michaeli-Gymnasiums und ihrer Geschichtslehrerin Sabrina Pörsel. Daran schließt sich der alljährliche Lichtergang zum Mahnmal an.&lt;/p&gt; &lt;p&gt;In Zusammenarbeit mit Friedensgemeinschaft Berg am Laim, Pax Christi Gruppe St. Michael, Evangelischer Offenbarungskirche und dem Bezirksausschuss 14 Berg am Laim.&lt;/p&gt; 
DTSTART:20211124T190000
DTEND:20211124T210000
LOCATION:Altersheim der Barmherzigen Schwestern vom Hl. Vinzenz von Paul, St.-Michael-Str. 16
ORGANIZER:MVHS
END:VEVENT
END:VCALENDAR