BEGIN:VCALENDAR
VERSION:2.0
PRODID:-//Stadtgeschichte München//DE
CALSCALE:GREGORIAN
BEGIN:VEVENT
UID:20043@stadtgeschichte-muenchen.de
SUMMARY:Neuperlach 50+
DESCRIPTION:&lt;p&gt;Am 11. Mai 1967 wurde der Grundstein für die &quot;Entlastungsstadt Perlach&quot; gelegt, die der, auch in den 60er-Jahren in München grassierenden, Wohnungsnot Einhalt gebieten sollte. Heute gibt es hier etwa 22.000 Wohnungen für 55.000 Menschen und vielfältige Arbeitsplätze. Das Image der &quot;Satellitenstadt&quot; war nicht immer das Beste. Sehr zu Unrecht, wie viele Bewohner*innen meinen: Sie sind weitgehend zufrieden mit Wohnqualität, Grünflächen, Nahversorgung und Erreichbarkeit. Dennoch gibt es Anlässe für eine Stadtteilerneuerung: große Autoverkehrsschneisen, das noch immer fehlende Zentrum, Defizite bei Kultur und Gewerbe.&lt;/p&gt; 
DTSTART:20211125T190000
DTEND:20211125T210000
LOCATION:Kulturhaus Neuperlach e. V., Albert-Schweizer-Str. 62
ORGANIZER:MVHS
END:VEVENT
END:VCALENDAR