BEGIN:VCALENDAR
VERSION:2.0
PRODID:-//Stadtgeschichte München//DE
CALSCALE:GREGORIAN
BEGIN:VEVENT
UID:2005@stadtgeschichte-muenchen.de
SUMMARY:Auf grünen Pfaden zu gewagter Architektur
DESCRIPTION:&lt;div&gt;Der M&amp;uuml;nchner Norden hat durch neue Parks und Erholungsfl&amp;auml;chen und durch aufsehenerregende Architektur enorm an Attraktivit&amp;auml;t&amp;nbsp;gewonnen. Auf der Radtour vom Olympiastadion zur Allianz-Arena fahren wir durch den k&amp;uuml;nstlerisch gestalteten Petuelpark, durch die&amp;nbsp;Parkstadt Schwabing mit ihren Gr&amp;uuml;nz&amp;uuml;gen, durch die Isarauen und zur Erholungslandschaft am Fr&amp;ouml;ttmaninger Berg. Zu Beginn der Tour&amp;nbsp;werfen wir einen Blick in die BMW Welt und auf Wunsch wird am Ende eine F&amp;uuml;hrung durch die Allianz-Arena durchgef&amp;uuml;hrt. Ein&amp;nbsp;Biergartenstopp beim Aumeister ist auch eingeplant. In Zusammenarbeit mit dem DGB Bildungswerk.&lt;/div&gt;
DTSTART:20120520T100000
DTEND:20120520T170000
LOCATION:U3 Olympiazentrum, Ausgang Olympiaturm
ORGANIZER:MVHS München Mitte   
END:VEVENT
END:VCALENDAR