BEGIN:VCALENDAR
VERSION:2.0
PRODID:-//Stadtgeschichte München//DE
CALSCALE:GREGORIAN
BEGIN:VEVENT
UID:20055@stadtgeschichte-muenchen.de
SUMMARY:Bildungseinrichtungen im Münchner Osten
DESCRIPTION:&lt;p&gt;Die freie heilpädagogische Waldorfschule in Bogenhausen blickt auf eine 60-jährige reiche Geschichte zurück und öffnet ihre Türen für interessierte Nachbarn und Nachbarinnen und alle anderen, die über diese Einrichtung für besondere Kinder etwas wissen möchten. Neben einer Führung durch das Haus für neun Schulklassen, drei Berufsschulstufen und einer integrierten heilpädagogischen Tagesstätte sowie die Außenanlegen erhalten Sie auch einen Einblick in das pädagogisches Konzept der Ausbildungsstätte.&lt;/p&gt; &lt;p&gt;Eine gleichzeitig stattfindende Führung wird mit Begleitung einer Gebärdendolmetscherin angeboten (bitte unter N123727 anmelden).&lt;/p&gt; 
DTSTART:20220115T140000
DTEND:20220115T000015
LOCATION:Max-Proebstl-Str. 11, am Tor
ORGANIZER:MVHS
END:VEVENT
END:VCALENDAR