BEGIN:VCALENDAR
VERSION:2.0
PRODID:-//Stadtgeschichte München//DE
CALSCALE:GREGORIAN
BEGIN:VEVENT
UID:20056@stadtgeschichte-muenchen.de
SUMMARY:Das Druckzentrum des Süddeutschen Verlags
DESCRIPTION:&lt;p&gt;Die Führung zeigt die gesamte Produktion eines Druckerzeugnisses. Von hier kommen neben der &quot;Süddeutschen Zeitung&quot; die &quot;Bild&quot;, die &quot;Bild am Sonntag&quot;, &quot;Die Welt&quot;, die &quot;Welt am Sonntag&quot;, die &quot;Welt kompakt&quot;, das &quot;Handelsblatt&quot;, die &quot;FAZ&quot;, die &quot;FAS&quot; sowie diverse Anzeigenblätter. Modernste Technik sichert das Bestehen im Konkurrenzkampf und über 300 Vollzeitarbeitsplätze. Der Kurzfilm &quot;Jeden Tag Druck&quot; zeigt, wie die Redaktionsmitglieder im In- und Ausland arbeiten, der anschließende Rundgang das Druckgeschehen vor Ort. Imposantester Teil ist die Halle der Rotationsanlage.&lt;/p&gt; &lt;p&gt;Dunkle Kleidung und festes Schuhwerk werden empfohlen.&lt;/p&gt; 
DTSTART:20220201T174500
DTEND:20220201T191500
LOCATION:SV-Druckzentrum
ORGANIZER:MVHS
END:VEVENT
END:VCALENDAR