BEGIN:VCALENDAR
VERSION:2.0
PRODID:-//Stadtgeschichte München//DE
CALSCALE:GREGORIAN
BEGIN:VEVENT
UID:20058@stadtgeschichte-muenchen.de
SUMMARY:Fairkauf Handelskontor
DESCRIPTION:&lt;p&gt;Kaffee und Kakao sind klassische Kolonialprodukte, die oft unter menschenunwürdigen Bedingungen in den Ländern entlang des Äquators produziert werden. Die Gewinne machen die großen Handelsunternehmen. Der faire Handel will zeigen, dass es auch anders geht. Hier werden hochwertige Produkte zu Preisen hergestellt, von denen die Produzent*innen auch leben können und zu Bedingungen, die die Umwelt und das Klima schonen. Anhand des München Kaffees und der München Schokolade werden Ihnen die Handelswege aufgezeigt, von den Kleinbauernorganisationen bis zum Verkauf im Weltladen. Und natürlich verkosten Sie auch Kaffee und Schokolade.&lt;/p&gt; 
DTSTART:20211011T193000
DTEND:20211011T203000
LOCATION:MVHS, Severinstr. 6
ORGANIZER:MVHS
END:VEVENT
END:VCALENDAR