BEGIN:VCALENDAR
VERSION:2.0
PRODID:-//Stadtgeschichte München//DE
CALSCALE:GREGORIAN
BEGIN:VEVENT
UID:20078@stadtgeschichte-muenchen.de
SUMMARY:ErstDemokrat*innen
DESCRIPTION:&lt;p&gt;Der demokratische Aufbruch 1918 und die Rolle, den ein Kreis von engagierten &quot;ErstDemokrat*innen&quot; um Ministerpräsident Kurt Eisner und seine Frau Else Bell dabei gespielt hat, werden in dieser Ausstellung im Guardini90 gezeigt. Dabei gibt es Hinweise auf die langjährige Vorbereitung des &quot;DemokratieStarts.1918&quot; in drei Demokratieschmieden während des Ersten Weltkriegs. Gezeigt werden die Erfolge der friedlichen Revolution und des folgenden Starts in eine moderne Demokratie; aber auch Misserfolge und die Verfolgung derer, die sich 1918 um die Entstehung der Demokratie in Bayern verdient gemacht haben. Begleitend zur Ausstellung gibt es einen 72-seitigen Ausstellungskatalog (5€), der vor Ort oder über Versand (Mail: info@arabellabuch.de, dann plus € 1,55) erhältlich ist. Ausrichter der Ausstellungseröffnung ist der Geschichtsverein Hadern e.V.. Näheres zur Finissage siehe unter www.verdi-kultur.de.&lt;/p&gt; 
DTSTART:20211014T190000
DTEND:20211014T210000
LOCATION:Guardinistr. 90
ORGANIZER:MVHS
END:VEVENT
END:VCALENDAR