BEGIN:VCALENDAR
VERSION:2.0
PRODID:-//Stadtgeschichte München//DE
CALSCALE:GREGORIAN
BEGIN:VEVENT
UID:2008@stadtgeschichte-muenchen.de
SUMMARY:Architek-Tour: Neue U-Bahnhöfe im Münchner Norden
DESCRIPTION:&lt;p&gt;Mit der Eröffnung der U3 nach Moosach wurde das Münchner U-Bahn-Netz wieder um zwei architektonische Highlights im Untergrund&amp;nbsp;erweitert. Gerade im Münchner Norden sind in den vergangenen Jahren ungewöhnliche, individuell gestaltete Bahnhöfe entstanden, die&amp;nbsp;nicht nur ihre Funktion erfüllen, sondern auch als Bauwerke sehenswert sind. Bei einer Rundfahrt per U-Bahn zu den Stationen&amp;nbsp;Westfriedhof, Georg-Brauchle-Ring, Moosach, Moosacher St.-Martins-Platz, Oberwiesenfeld und Münchner Freiheit erläutern zwei&amp;nbsp;Architekten der Stadt München Details zum jeweiligen gestalterischen Konzept und zu seiner Umsetzung. MW-Fahrkarte notwendig.&lt;/p&gt; 
DTSTART:20120802T173000
DTEND:20120802T200000
LOCATION:U-Bahnhof Westfriedhof, südliches Zwischengeschoss
ORGANIZER:MVHS München Mitte   
END:VEVENT
END:VCALENDAR