BEGIN:VCALENDAR
VERSION:2.0
PRODID:-//Stadtgeschichte München//DE
CALSCALE:GREGORIAN
BEGIN:VEVENT
UID:20084@stadtgeschichte-muenchen.de
SUMMARY:Das Islamische Kulturzentrum Hidaje e.V. stellt sich vor
DESCRIPTION:&lt;p&gt;Das Islamisch-Bosnische Kulturzentrum Hidaje e.V. kümmert sich um den Erhalt des bosnischen Kulturerbes und fördert islamische Werte ebenso wie gute Beziehungen zu städtischen, staatlichen und nicht muslimischen Organisationen und Institutionen. Im Jahr 2022 möchte Hidaje e.V. in ein Vereinshaus mit Gebetsraum in Sendling-Westpark umziehen. Schon jetzt stellt sich das Kulturzentrum den Menschen im Münchner Süden vor, präsentiert seine konkreten Angebote, Aufgaben und Geschichte - und ein kleines Stückchen bosnischer Kultur.&lt;/p&gt; 
DTSTART:20211109T180000
DTEND:20211109T000019
LOCATION:VHS, Albert-Roßhaupter-Str. 8
ORGANIZER:MVHS
END:VEVENT
END:VCALENDAR