BEGIN:VCALENDAR
VERSION:2.0
PRODID:-//Stadtgeschichte München//DE
CALSCALE:GREGORIAN
BEGIN:VEVENT
UID:20086@stadtgeschichte-muenchen.de
SUMMARY:Verteidigung der Heimat oder Rebellion?
DESCRIPTION:&lt;p&gt;Am Weihnachtstag 1705 starben vor den Toren Münchens fast 1000 Oberländer beim Versuch, die Stadt von der kaiserlichen Besatzung zu befreien. Bis heute ist die &quot;Sendlinger Mordweihnacht&quot; im Bewusstsein der bayerischen Bevölkerung präsent. Vielerorts wird an sie erinnert - nicht zuletzt in Sendling. Der reich bebilderte Vortrag stützt sich auf eine Quelle, die ganz nahe an das historische Geschehen heranführt: die Aufzeichnungen der Pfarrer.&lt;/p&gt; 
DTSTART:20211214T000018
DTEND:20211214T200000
LOCATION:Albert-Roßhaupter-Str. 8
ORGANIZER:MVHS
END:VEVENT
END:VCALENDAR