BEGIN:VCALENDAR
VERSION:2.0
PRODID:-//Stadtgeschichte München//DE
CALSCALE:GREGORIAN
BEGIN:VEVENT
UID:20087@stadtgeschichte-muenchen.de
SUMMARY:Kommunalpolitik in München
DESCRIPTION:&lt;p&gt;Im Herzen Münchens tagt der Münchner Stadtrat im Neuen Rathaus. Stadträtin Veronika Mirlach, Mitglied der CSU-Fraktion, zeigt in der Führung auf, wie die Arbeit im Stadtrat abläuft. Sie beantwortet Ihre Fragen und kommt mit Ihnen über Anliegen der Menschen ins Gespräch. Auf einem Rundgang durch das Rathaus besichtigen Sie die Orte, an denen kommunalpolitische Arbeit stattfindet, wie etwa Sitzungssäle und Fraktionsräume.&lt;/p&gt; 
DTSTART:20211124T170000
DTEND:20211124T183000
LOCATION:Rathaus Marienplatz, vor der Pforte beim Fischbrunnen, Marienplatz 8
ORGANIZER:MVHS
END:VEVENT
END:VCALENDAR