BEGIN:VCALENDAR
VERSION:2.0
PRODID:-//Stadtgeschichte München//DE
CALSCALE:GREGORIAN
BEGIN:VEVENT
UID:2009@stadtgeschichte-muenchen.de
SUMMARY:Architek-Tour: Olympiapark, BMW Welt, Olympiaturm, Olympiadorf
DESCRIPTION:&lt;div&gt;Der Olympiapark - seit den Olympischen Spielen 1972 aktuell wie eh und je, insbesondere durch neue Bauten wie BMW Welt, Umbauten&amp;nbsp;der Olympiahalle sowie Neubauten der Studenten-Bungalows. Wir starten mit einem Blick in die BMW Welt, anschlie&amp;szlig;end genie&amp;szlig;en wir die&amp;nbsp;herrliche Aussicht vom Olympiaturm, weiter geht es durch die gr&amp;ouml;&amp;szlig;te zusammenh&amp;auml;ngende Sportanlage mitten in einer Stadt und&amp;nbsp;abschlie&amp;szlig;end f&amp;uuml;hrt uns der Weg durch das Olympiadorf, eine einmalige Gro&amp;szlig;wohnanlage.&lt;/div&gt; &lt;div&gt;&amp;nbsp;&lt;/div&gt; &lt;div&gt;In Zusammenarbeit mit dem DGB Bildungswerk.&lt;/div&gt;
DTSTART:20120923T110000
DTEND:20120923T140000
LOCATION:U3 Olympiazentrum, Ausgang Olympiaturm
ORGANIZER:MVHS München Mitte   
END:VEVENT
END:VCALENDAR