BEGIN:VCALENDAR
VERSION:2.0
PRODID:-//Stadtgeschichte München//DE
CALSCALE:GREGORIAN
BEGIN:VEVENT
UID:20090@stadtgeschichte-muenchen.de
SUMMARY:Der Biomarkt im Stemmerhof
DESCRIPTION:&lt;p&gt;Der Biomarkt im Stemmerhof gehört zur Biomarktgemeinschaft e.G. Wie funktioniert eine solche Gemeinschaft, worin unterscheidet sie sich von den herkömmlichen Lebensmittelmärkten und welche Ziele verfolgt sie? Sie erhalten Informationen zur Vermarktung ökologisch erzeugter Lebensmittel, Kriterien beim Anbau, zur Herstellung und zur Produktion der Lebensmittel.&lt;/p&gt; &lt;p&gt;Im Rahmen des 15. Münchner Klimaherbstes&lt;/p&gt; 
DTSTART:20211027T130000
DTEND:20211027T140000
LOCATION:Biomarkt Stemmerhof, Plinganser Str. 6
ORGANIZER:MVHS
END:VEVENT
END:VCALENDAR