BEGIN:VCALENDAR
VERSION:2.0
PRODID:-//Stadtgeschichte München//DE
CALSCALE:GREGORIAN
BEGIN:VEVENT
UID:20095@stadtgeschichte-muenchen.de
SUMMARY:Thalkirchen - grünes Schmuckstück an der Isar
DESCRIPTION:&lt;p&gt;Der ursprüngliche Ortskern lag an der Wallfahrtskirche St. Maria - der Kirche im Tal. Viele Wallfahrende kamen in das kleine Bauerndorf im Süden. Verkehrstechnisch durch die Isartalbahn angeschlossen, begann 1890 die städtische Entwicklung im Ort. Gleichzeitig wurde das Maria Einsiedel Bad eröffnet, ganz in der Nähe der Zentrallände und des 1687 erbauten späteren &quot;Asam-Schlössl&quot;. Constanze Lindner Haigis´ Vortrag führt durch ein grünes Stadtviertel, das zum Grillen an der renaturierten Isar, dem Spaziergang durch den Gierlinger Park oder zur Radtour zum Hinterbrühler See einlädt.&lt;/p&gt; &lt;p&gt;&amp;nbsp;&lt;/p&gt; &lt;p&gt;Sollte der Vortrag coronabedingt nicht in Präsenz durchgeführt werden können, wird er als Online-Vortrag stattfinden.&lt;/p&gt; 
DTSTART:20220201T180000
DTEND:20220201T000019
LOCATION:Albert-Roßhaupter-Str. 8
ORGANIZER:MVHS
END:VEVENT
END:VCALENDAR