BEGIN:VCALENDAR
VERSION:2.0
PRODID:-//Stadtgeschichte München//DE
CALSCALE:GREGORIAN
BEGIN:VEVENT
UID:20098@stadtgeschichte-muenchen.de
SUMMARY:Schloss Fürstenried
DESCRIPTION:&lt;p&gt;Anders als Nymphenburg ist das bedeutende Jagdschloss Fürstenried normalerweise nicht zu besichtigen. Bei dieser Führung sehen wir das Schloss mit seinem Garten und unterhalten uns über die unterschiedlichen Menschen, die hier wohnten: So etwa über den tragischen König Otto von Bayern, der hier interniert war. Das Schloss wurde als Exerzitienzentrum der katholischen Kirche im Inneren stark modernisiert, hat aber gerade dadurch noch zusätzliche schöne Aspekte zu bieten.&lt;/p&gt; 
DTSTART:20211122T150000
DTEND:20211122T170000
LOCATION:Hoftor, Forst-Kasten-Allee
ORGANIZER:MVHS
END:VEVENT
END:VCALENDAR