BEGIN:VCALENDAR
VERSION:2.0
PRODID:-//Stadtgeschichte München//DE
CALSCALE:GREGORIAN
BEGIN:VEVENT
UID:201@stadtgeschichte-muenchen.de
SUMMARY:Stadtstreunereien
DESCRIPTION:&lt;p&gt;Es wird es ein &amp;bdquo;Hineinspechten&amp;quot; in Hinterh&amp;ouml;fe, ein Verharren vor alten Kneipen oder ihrem fr&amp;uuml;heren Standort, ein Hinweis auf &amp;bdquo;Schwabylon-Schlawiner&amp;quot;. Hier, wo sie gewohnt, gearbeitet - naja, gelebt haben - oder f&amp;uuml;r einen Ort ein Gedicht hinterlassen haben. Politik, Terror-ja auch, fast vergessen, und doch so nah! Dann &amp;uuml;ber Stra&amp;szlig;enz&amp;uuml;ge, die an den Kanalgr&amp;uuml;nder, den Kurf&amp;uuml;rsten Max Emanuel erinnern oder an die kgl. Hoheit Prinz Leopold und seine Familie, ans alte &amp;bdquo;Mordend&amp;quot; der Stadt, an die Burgfriedensgrenze, wo die &amp;bdquo;Streunereien&amp;quot; enden.&lt;/p&gt;
DTSTART:20110513T160000
DTEND:20110513T180000
LOCATION:Odeonsplatz, Tor zum Hofgarten
ORGANIZER:MVHS München Mitte   
END:VEVENT
END:VCALENDAR