BEGIN:VCALENDAR
VERSION:2.0
PRODID:-//Stadtgeschichte München//DE
CALSCALE:GREGORIAN
BEGIN:VEVENT
UID:20106@stadtgeschichte-muenchen.de
SUMMARY:Das Institut für Schlaganfall- und Demenzforschung
DESCRIPTION:&lt;p&gt;Im Alter klagen Menschen über Probleme mit dem Gedächtnis. Nicht immer handelt es sich &quot;nur&quot; um altersbedingte Vergesslichkeit - oft sind solche Beschwerden auch Ausdruck einer Erkrankung. Je früher hier die Erkennung und Behandlung ansetzt, umso besser. In der Schlaganfallpräventions- und Gedächtnisambulanz des ISD arbeitet ein interdisziplinäres Team aus den Bereichen Neuropsychologie, Sozialarbeit und Studienassistenz sowie ärztlichem Fachpersonal eng zusammen. Die Veranstaltung informiert über die Struktur und Aufgaben des Instituts und stellt die Angebote der Gedächtnisambulanz vor.&lt;/p&gt; 
DTSTART:20220127T150000
DTEND:20220127T160000
LOCATION: Institut für Schlaganfall- und Demenzforschung, Feodor-Lynen-Str. 17
ORGANIZER:MVHS
END:VEVENT
END:VCALENDAR