BEGIN:VCALENDAR
VERSION:2.0
PRODID:-//Stadtgeschichte München//DE
CALSCALE:GREGORIAN
BEGIN:VEVENT
UID:20124@stadtgeschichte-muenchen.de
SUMMARY:Der Bildungscampus Freiham
DESCRIPTION:&lt;p&gt;Der Bildungscampus bietet künftig Platz für 3000 Schülerinnen und Schüler und bildet das &quot;markante Entree&quot; zum neuen Stadtviertel Freiham. Vier Schulen, die nach dem Münchner Lernhauskonzept gestaltet sind, teilen sich das Gelände. In der Campusmitte befinden sich die von allen Schulen genutzte Bibliothek, die Kreativ-Fachlehrsäle Musik, Kunst und Werken, gemeinsam genutzte Mehrzweckräume sowie eine Mensa, die gleichzeitig Veranstaltungsflächen für interne und externe Nutzerinnen und Nutzer bieten. Während unserer Führung über den Campus erläutert Ihnen Eduard Arndt den pädagogischen Grundgedanken des Lernhauskonzeptes.&lt;/p&gt; &lt;p&gt;In Kooperation mit dem Referat für Bildung und Sport der LH München&lt;/p&gt; 
DTSTART:20211102T163000
DTEND:20211102T180000
LOCATION:S-Bahnhof Freiham, am Vorplatz vor dem Ärztehaus
ORGANIZER:MVHS
END:VEVENT
END:VCALENDAR