BEGIN:VCALENDAR
VERSION:2.0
PRODID:-//Stadtgeschichte München//DE
CALSCALE:GREGORIAN
BEGIN:VEVENT
UID:2014@stadtgeschichte-muenchen.de
SUMMARY:Freimanns Nachbar- das Klärwerk Gut Großlappen
DESCRIPTION:&lt;div&gt;Im Laufe der Besichtigung begleiten Sie das Abwasser durch alle Reinigungsstufen vom Einlauf am Rechenhaus bis zur Einleitung des&amp;nbsp;Zulaufkanals zum Speichersee. Es wird das gesamte Verfahren der mechanisch-biologisch-chemischen Abwasserreinigung, der&amp;nbsp;Schlammbehandlung, der Eigenenergie-Versorgung und die Kl&amp;auml;rschlammverbrennungsanlage vorgestellt. Die T&amp;uuml;rme der neuen&amp;nbsp;Faulbeh&amp;auml;lteranlage sind weithin sichtbar.&lt;/div&gt;
DTSTART:20120503T143000
DTEND:20120503T163000
LOCATION: Pforte des Klärwerks, Freisinger Landstr. 187 
ORGANIZER:MVHS München Mitte   
END:VEVENT
END:VCALENDAR