BEGIN:VCALENDAR
VERSION:2.0
PRODID:-//Stadtgeschichte München//DE
CALSCALE:GREGORIAN
BEGIN:VEVENT
UID:20145@stadtgeschichte-muenchen.de
SUMMARY:Wohnen und Pflege im Alter
DESCRIPTION:&lt;p&gt;Die barrierefreien Senior*innenwohnungen im Erdgeschoß werden betreut von Mitarbeiterinnen und Mitarbeitern der Hilfe im Alter. Sie erfahren Hilfe in der Alltagsbewältigung, so dass ein selbstständiges Wohnen weiterhin möglich ist. Das IWO ist mit dem Gemeinschaftszentrum eine Art Stadtteiltreff geworden für ältere Menschen im Stadtteil. Die Tür steht für alle täglich (außer an den Wochenenden) offen und es wird ein vielfältiges Programm, einschließlich eines Mittagstisches, angeboten. Nach der Begrüßung im Begegnungsraum bei Kaffee und Kuchen führen wir Sie durch die Anlage.&lt;/p&gt; 
DTSTART:20220118T143000
DTEND:20220118T153000
LOCATION:Gemeinschaftszentrum Integriertes Wohnen, Menzinger Str. 16
ORGANIZER:MVHS
END:VEVENT
END:VCALENDAR