BEGIN:VCALENDAR
VERSION:2.0
PRODID:-//Stadtgeschichte München//DE
CALSCALE:GREGORIAN
BEGIN:VEVENT
UID:20149@stadtgeschichte-muenchen.de
SUMMARY:Die Blutenburg
DESCRIPTION:&lt;p&gt;Das Gebäudeensemble aus dem 15. Jahrhundert wurde Anfang der achtziger Jahre renoviert und für die Zwecke der Internationalen Jugendbibliothek (IJB) ausgebaut. Der Rundgang durch die Schlossanlage einschließlich der Kapelle macht mit ihrer Geschichte und ihren kunsthistorischen Schätzen bekannt und stellt zugleich die Arbeit der weltweit einzigartigen Bibliothek für internationale Kinder- und Jugendliteratur vor. Besichtigt werden auch das Erich-Kästner-Zimmer, das Michael-Ende-Museum, das Binette-Schroeder-Kabinett und der James-Krüss-Turm.&lt;/p&gt; &lt;p&gt;In Kooperation mit der Stiftung Internationale Jugendbibliothek.&lt;/p&gt; 
DTSTART:20211126T150000
DTEND:20211126T170000
LOCATION:Eingang Blutenburg (unter dem Torbogen), Seldweg 15
ORGANIZER:MVHS
END:VEVENT
END:VCALENDAR