BEGIN:VCALENDAR
VERSION:2.0
PRODID:-//Stadtgeschichte München//DE
CALSCALE:GREGORIAN
BEGIN:VEVENT
UID:2015@stadtgeschichte-muenchen.de
SUMMARY:Anderwerk GmbH
DESCRIPTION:&lt;div&gt;Die Anderwerk GmbH betreibt in Moosach mehrere soziale Projekte, in denen unterschiedliche Zielgruppen beruflich qualifiziert werden.&amp;nbsp;Sie bieten diverse Produkte und Dienstleistungen f&amp;uuml;r Kunden an. So kann man dort z. B. Autos reparieren und St&amp;uuml;hle polstern lassen&amp;nbsp;oder Umzugshelfer engagieren.&amp;nbsp;In der &amp;bdquo;Jugendwerkstatt&amp;quot; k&amp;ouml;nnen die Berufe Raumausstatter/in und Schreiner/in erlernt werden, das Projekt &amp;bdquo;Arbeitswege&amp;quot; dient der&amp;nbsp;Berufsorientierung von Jugendlichen. Die &amp;bdquo;Lernstatt&amp;quot; bietet Arbeitspl&amp;auml;tze f&amp;uuml;r Langzeitarbeitslose zur Reparatur von Autos und&amp;nbsp;elektronischen Ger&amp;auml;ten. Azubis werden in den &amp;bdquo;ausbildungsbegleitenden Hilfen&amp;quot; gef&amp;ouml;rdert. Bei einem Rundgang werden die einzelnen&amp;nbsp;Projekte vorgestellt.&lt;/div&gt;
DTSTART:20120509T140000
DTEND:20120509T160000
LOCATION:Anderwerk GmbH, Gneisenaustr. 8/1. Stock (U1 Georg-Brauchle-Ring)
ORGANIZER:MVHS München Mitte   
END:VEVENT
END:VCALENDAR