BEGIN:VCALENDAR
VERSION:2.0
PRODID:-//Stadtgeschichte München//DE
CALSCALE:GREGORIAN
BEGIN:VEVENT
UID:20155@stadtgeschichte-muenchen.de
SUMMARY:Urbane Zukunft gestalten. Visionen für den Münchner Norden
DESCRIPTION:&lt;p&gt;Vortrag zur Ausstellung: #mitmünchnern - Jetzt ist Zukunft&lt;/p&gt; &lt;p&gt;Klimaneutrale und smarte Stadt&lt;/p&gt; &lt;p&gt;München wird smarter! Wie macht Digitalisierung eine zukunftsfähige Stadtentwicklung möglich und wie sehen die Pläne für München aus?&lt;/p&gt; &lt;p&gt;Alexander Lang (Referat für Stadtplanung und Bauordnung)&lt;/p&gt; 
DTSTART:20210930T160000
DTEND:20210930T173000
LOCATION:Volkshochschule, Troppauer Str. 10
ORGANIZER:MVHS
END:VEVENT
END:VCALENDAR