BEGIN:VCALENDAR
VERSION:2.0
PRODID:-//Stadtgeschichte München//DE
CALSCALE:GREGORIAN
BEGIN:VEVENT
UID:20178@stadtgeschichte-muenchen.de
SUMMARY:Münchner Originale
DESCRIPTION:&lt;p&gt;&quot;Wer ko, der ko&quot;, &quot;Nix Gwiss woas ma ned&quot; oder &quot;Buchbinder Wanninger&quot;, mancher Ausspruch eines Münchners ist zum geflügelten Wort geworden. Neben Xaver Krenkl, dem Finessen-Sepperl, Karl Valentin und Liesl Karlstadt hat die bayerische Landeshauptstadt noch zahlreiche weitere Originale hervorgebracht, die sich in Politik, Literatur, Malerei, Musik oder den Wissenschaften hervorgetan haben. Lernen Sie bei einer Führung bekannte und weniger bekannte Münchner Persönlichkeiten und ihre Lebensgeschichten kennen.&lt;/p&gt; 
DTSTART:20211114T130000
DTEND:20211114T150000
LOCATION:Statue von Orlando di Lasso, Promenadeplatz
ORGANIZER:MVHS
END:VEVENT
END:VCALENDAR