BEGIN:VCALENDAR
VERSION:2.0
PRODID:-//Stadtgeschichte München//DE
CALSCALE:GREGORIAN
BEGIN:VEVENT
UID:2018@stadtgeschichte-muenchen.de
SUMMARY:Das Wetteramt München
DESCRIPTION:&lt;div&gt;Bei der F&amp;uuml;hrung im Wetteramt M&amp;uuml;nchen erhalten Sie einen Einblick in die moderne Wetterbeobachtung.&lt;/div&gt; &lt;div&gt;Damit die geplante Radtour nicht ins Wasser f&amp;auml;llt, lesen wir vorher den Wetterbericht. Die Vorhersagen werden dank modernster&amp;nbsp;&lt;/div&gt; &lt;div&gt;Satelliten- und Radarger&amp;auml;te immer zuverl&amp;auml;ssiger. Das Wetteramt liefert die notwendigen Informationen dazu, indem es die&amp;nbsp;meteorologischen Prozesse in der Atmosph&amp;auml;re beobachtet und bewertet. Besonders wichtig ist dabei die rechtzeitige Warnung vor&amp;nbsp;Unwettern.&lt;/div&gt;
DTSTART:20120620T160000
DTEND:20120620T173000
LOCATION:Eingang Wetteramt, Helene-Weber-Allee 21 (Tram 20/21 Goethe-Institut)
ORGANIZER:MVHS München Mitte   
END:VEVENT
END:VCALENDAR