BEGIN:VCALENDAR
VERSION:2.0
PRODID:-//Stadtgeschichte München//DE
CALSCALE:GREGORIAN
BEGIN:VEVENT
UID:20199@stadtgeschichte-muenchen.de
SUMMARY:Altmünchner Gastlichkeit
DESCRIPTION:&lt;p&gt;In Schlössern und Parks des Adels, so auch am Hof in München, lebten stets unterschiedlichste Tiere: Hunde, Pferde, Falken und Hirsche, aber auch Affen, Löwen, Ratten und Flöhe. Unser Blick richtet sich auf das breite Spektrum, das nichtmenschliche Lebewesen im Hofleben ausfüllten: Nutztiere für Tafel, Transport und Jagd sowie Schauobjekte in Menagerien. Besonders Hunde wurden innig geliebt und oft als loyaler empfunden als die gesamte Hofgesellschaft. Der Vortrag eröffnet vielfältigste Perspektiven der Mensch-Tier-Beziehungen von der Renaissance bis zur Gegenwart.&lt;/p&gt; 
DTSTART:20220120T173000
DTEND:20220120T190000
LOCATION:
ORGANIZER:MVHS
END:VEVENT
END:VCALENDAR