BEGIN:VCALENDAR
VERSION:2.0
PRODID:-//Stadtgeschichte München//DE
CALSCALE:GREGORIAN
BEGIN:VEVENT
UID:2020@stadtgeschichte-muenchen.de
SUMMARY:Kaffeerösterei H. Schneid oHG
DESCRIPTION:&lt;div&gt;Den Weg des Kaffees von der gepfl&amp;uuml;ckten Bohne bis zur Tasse Kaffee erleben Sie in der Kaffeer&amp;ouml;sterei H. Schneid oHG in Feldmoching.&amp;nbsp;Die Langzeitr&amp;ouml;stung auf einem Trommelr&amp;ouml;ster wird durch den R&amp;ouml;stmeister Manfred Schneider vorgef&amp;uuml;hrt und erl&amp;auml;utert, au&amp;szlig;erdem&amp;nbsp;erfahren Sie die Geschichte des Kaffees, seines Ursprungs und die Herkunftsl&amp;auml;nder des Rohkaffees.&lt;/div&gt;
DTSTART:20120426T163000
DTEND:20120426T180000
LOCATION:Kaffeerösterei H. Schneid, Feldmochinger Str. 378
ORGANIZER:MVHS München Mitte   
END:VEVENT
END:VCALENDAR