BEGIN:VCALENDAR
VERSION:2.0
PRODID:-//Stadtgeschichte München//DE
CALSCALE:GREGORIAN
BEGIN:VEVENT
UID:20201@stadtgeschichte-muenchen.de
SUMMARY:Versteckte Pfade der Münchner Altstadt
DESCRIPTION:&lt;p&gt;Dieser Online-Vortrag nimmt Sie mit auf einen &quot;Spaziergang&quot; durch die Münchner Altstadt und führt Sie dabei auf Pfade abseits der typischen Sehenswürdigkeiten. Entdecken Sie versteckte Winkel, wunderschöne Kleinodien sowie entlegene Plätze und erfahren Sie interessante Hintergründe und abwechslungsreiche Anekdoten dazu. Es lohnt sich, die Münchner Altstadt einmal im Unbekannten gedanklich zu durchstreifen.&lt;/p&gt; 
DTSTART:20220127T173000
DTEND:20220127T184500
LOCATION:
ORGANIZER:MVHS
END:VEVENT
END:VCALENDAR