BEGIN:VCALENDAR
VERSION:2.0
PRODID:-//Stadtgeschichte München//DE
CALSCALE:GREGORIAN
BEGIN:VEVENT
UID:20213@stadtgeschichte-muenchen.de
SUMMARY:Endlich Zeit für ...
DESCRIPTION:&lt;p&gt;Sie möchten sich informieren über Inhalte und Besonderheiten der Senioren Volkshochschule im Stadtbereich Süd?&lt;/p&gt; &lt;p&gt;An diesem Nachmittag haben Sie die Möglichkeit, sich mit den Mitarbeitenden der Senioren Volkshochschule einen Überblick über unsere Standorte, neue Kurse, Preise und Ermäßigungen zu verschaffen.&lt;/p&gt; &lt;p&gt;Es findet zusätzlich eine Beratung zu unseren Computer- und Internetkursen statt.&lt;/p&gt; 
DTSTART:20210929T140000
DTEND:20210929T153000
LOCATION:Stadtbibliothek, Albert-Roßhaupter-Str. 8
ORGANIZER:MVHS
END:VEVENT
END:VCALENDAR