BEGIN:VCALENDAR
VERSION:2.0
PRODID:-//Stadtgeschichte München//DE
CALSCALE:GREGORIAN
BEGIN:VEVENT
UID:2022@stadtgeschichte-muenchen.de
SUMMARY:Jüdischer Friedhof an der Garchinger Straße
DESCRIPTION:&lt;div&gt;Der Friedhof an der Garchinger Stra&amp;szlig;e ist nicht nur die Begr&amp;auml;bnisst&amp;auml;tte der Israelitischen Gemeinde, er gibt auch Zeugnis eines&amp;nbsp;bedeutenden Teiles der M&amp;uuml;nchner Geschichte. Die F&amp;uuml;hrung erm&amp;ouml;glicht, sich j&amp;uuml;dische Schicksale in M&amp;uuml;nchen vor und nach dem Holocaust&amp;nbsp;zu vergegenw&amp;auml;rtigen. F&amp;uuml;r M&amp;auml;nner und verheiratete Frauen ist eine Kopfbedeckung erforderlich.&lt;/div&gt; &lt;div&gt;&amp;nbsp;&lt;/div&gt; &lt;div&gt;Die Teilnahme ist nur nach vorheriger Anmeldung m&amp;ouml;glich; nur Angemeldete werden zugelassen.&lt;/div&gt;
DTSTART:20120513T140000
DTEND:20120513T153000
LOCATION:Jüdischer Friedhof, Haupteingang, Garchinger Str. 37
ORGANIZER:MVHS München Mitte   
END:VEVENT
END:VCALENDAR