BEGIN:VCALENDAR
VERSION:2.0
PRODID:-//Stadtgeschichte München//DE
CALSCALE:GREGORIAN
BEGIN:VEVENT
UID:20220@stadtgeschichte-muenchen.de
SUMMARY:Sankt Martin zapft die Sonne an
DESCRIPTION:&lt;p&gt;Die Idee, aus Sonnenlicht elektrischen Strom zu produzieren, stammt aus den 1930er Jahren. Jahrzehnte später wurde aus der Idee in München Realität: Ein Förderprogramm der Landeshauptstadt gab den Anstoß für private Solaranlagen. Im Stadtteil Moosach setzte sich Pfarrer Lindenberger von der Pfarrei St. Martin vehement für den Bau einer Solaranlage auf dem Dach des Pfarrheims ein. In 25 Jahren lieferte dieses Solarkraftwerk bereits 125.000 kWh Sonnenstrom. Heinrich Roth vom Geschichtsverein Moosach erzählt von dieser ungewöhnlichen Tat und wie es dazu kam.&lt;/p&gt; &lt;p&gt;In Kooperation mit dem Geschichtsverein Moosach e.V.&lt;/p&gt; &lt;p&gt;Im Rahmen der Vortragsreihe &quot;Montags in Moosach&quot;.&lt;/p&gt; 
DTSTART:20220131T190000
DTEND:20220131T200000
LOCATION:MVHS in Moosach, Baubergerstr. 6a
ORGANIZER:MVHS
END:VEVENT
END:VCALENDAR