BEGIN:VCALENDAR
VERSION:2.0
PRODID:-//Stadtgeschichte München//DE
CALSCALE:GREGORIAN
BEGIN:VEVENT
UID:20223@stadtgeschichte-muenchen.de
SUMMARY:Stadtsanierung Moosach im Dialog
DESCRIPTION:&lt;p&gt;Ein Teil Moosachs ist seit Januar 2021 durch den Münchner Stadtrat förmlich als Sanierungsgebiet festgelegt. Seitdem werden für städtebauliche Maßnahmen und Projekte vor Ort Fördermittel aus dem Bund-Länder-Städtebauförderungsprogramm &quot;Sozialer Zusammenhalt&quot; und Mitteln der Landeshauptstadt München eingesetzt.&lt;/p&gt; &lt;p&gt;Erklärtes Ziel der Stadtsanierung Moosach ist eine nachhaltige Stadtteilentwicklung. Was sind hierbei die Schwerpunkte? Kommen Sie ins Gespräch mit dem Stadtteilmanagement, lokalen und kommunalen Akteuren.&lt;/p&gt; &lt;p&gt;In Kooperation mit der Münchner Gesellschaft für Stadtsanierung mbH.&lt;/p&gt; 
DTSTART:20220223T183000
DTEND:20220223T200000
LOCATION:MVHS in Moosach, Baubergerstr. 6a
ORGANIZER:MVHS
END:VEVENT
END:VCALENDAR