BEGIN:VCALENDAR
VERSION:2.0
PRODID:-//Stadtgeschichte München//DE
CALSCALE:GREGORIAN
BEGIN:VEVENT
UID:2024@stadtgeschichte-muenchen.de
SUMMARY:Künstler und Literaten auf dem Nordfriedhof
DESCRIPTION:&lt;div&gt;Auf dem Nordfriedhof sind eine Reihe von K&amp;uuml;nstlerinnen und K&amp;uuml;nstlern beerdigt. Bei unserem Spaziergang &amp;uuml;ber den Friedhof besuchen wir&amp;nbsp;die Gr&amp;auml;ber einiger davon. Wir erinnern uns an Maler und Karikaturisten, Schriftsteller und Poeten, B&amp;uuml;hnenschauspieler und Fernsehstars,&amp;nbsp;S&amp;auml;nger und Kabarettisten. Dabei treffen wir auch auf Originale wie die Sch&amp;ouml;nheitsk&amp;ouml;nigin von Schneizlreuth, den B&amp;uuml;rgermeister der&amp;nbsp;&amp;bdquo;Traumstadt&amp;quot; Schwabing oder die Hausmeisterin Eise Kling aus der &amp;bdquo;Lindenstra&amp;szlig;e&amp;quot;. In Zusammenarbeit mit dem Kulturverein Alte Heide&amp;nbsp;e.V.&lt;/div&gt;
DTSTART:20120708T100000
DTEND:20120708T123000
LOCATION:Nordfriedhof, Eingang der Aussegnungshalle, Ungererstr. 130 (U6 Nordfriedhof) 
ORGANIZER:MVHS München Mitte   
END:VEVENT
END:VCALENDAR