BEGIN:VCALENDAR
VERSION:2.0
PRODID:-//Stadtgeschichte München//DE
CALSCALE:GREGORIAN
BEGIN:VEVENT
UID:20240@stadtgeschichte-muenchen.de
SUMMARY:Gemeinschaftlich Wohnen im Alter
DESCRIPTION:&lt;p&gt;In der Veranstaltung informieren wir über unterschiedliche Konzepte sozialer Gemeinschaften, Nachbarschaftshilfe und mögliche Unterstützung im Alter in einem Wohnprojekt. Eine Option, das Wohnen im Alter zu organisieren, ist die Mietgemeinschaft. Wir informieren an diesem Abend über das Grundkonzept sowie die ersten Schritte zur Formierung einer Gruppe und die von den Wohnungsunternehmen vorgegebenen Rahmenbedingungen.&lt;/p&gt; &lt;p&gt;In Zusammenarbeit mit der mitbauzentrale münchen.&lt;/p&gt; 
DTSTART:20211026T190000
DTEND:20211026T203000
LOCATION:MVHS am Scheidplatz, Belgradstr. 108
ORGANIZER:MVHS
END:VEVENT
END:VCALENDAR