BEGIN:VCALENDAR
VERSION:2.0
PRODID:-//Stadtgeschichte München//DE
CALSCALE:GREGORIAN
BEGIN:VEVENT
UID:20250@stadtgeschichte-muenchen.de
SUMMARY:Verträumt - versteckt - verschwunden?
DESCRIPTION:&lt;p&gt;Eine bunte Tour von Hof zu Hof gefällig? Münchens Innenhöfe gleichen einem Fächer, dessen reiches Spektrum ganze Jahrhunderte Stadtgeschichte lebendig werden lässt. Entdecken Sie eine Lebenstreppe und ein Lebenslabyrinth, Scheinfassaden und Sparfassaden, Wunden des Zweiten Weltkriegs und revitalisierte Höfe sowie, nicht zu vergessen, die Bewohnerinnen und Bewohner dahinter: Mönche, Kaiser und die Schickimickis. Wir suchen einen Weg durch diese Fülle und wechseln die Perspektive auf scheinbar Bekanntes.&lt;/p&gt; &lt;p&gt;Die Führung endet voraussichtlich in den Fünf Höfen.&lt;/p&gt; 
DTSTART:20211127T140000
DTEND:20211127T160000
LOCATION:unter dem Turm des Neuen Rathauses
ORGANIZER:MVHS
END:VEVENT
END:VCALENDAR