BEGIN:VCALENDAR
VERSION:2.0
PRODID:-//Stadtgeschichte München//DE
CALSCALE:GREGORIAN
BEGIN:VEVENT
UID:20253@stadtgeschichte-muenchen.de
SUMMARY:Eine faire Wirtschaft ist möglich!
DESCRIPTION:&lt;p&gt;Eine faire Wirtschaft ist möglich! Doch wie sieht sie konkret aus? Die Regionalgruppe München des Gemeinwohl-Ökonomie Bayern e.V. lädt Interessierte ein, Beispiele für gemeinwohlorientiertes Wirtschaften in München auf einem Stadtrundgang kennenzulernen. Während des rund vierstündigen Rundgangs zu Fuß und mit dem MVV besuchen Sie vier Gemeinwohl-Unternehmen. Dabei erhalten Sie Einblick, wie diese trotz oder gerade wegen ihres ethischen Handelns erfolgreich sind. Sie werden sehen: Es gibt Alternativen zum bestehenden Wirtschaftssystem.&lt;/p&gt; &lt;p&gt;Der Rundgang findet bei jedem Wetter statt.&lt;/p&gt; 
DTSTART:20211119T140000
DTEND:20211119T180000
LOCATION:wird mitgeteilt
ORGANIZER:MVHS
END:VEVENT
END:VCALENDAR