BEGIN:VCALENDAR
VERSION:2.0
PRODID:-//Stadtgeschichte München//DE
CALSCALE:GREGORIAN
BEGIN:VEVENT
UID:2027@stadtgeschichte-muenchen.de
SUMMARY:Die Geschichte Feldmochings
DESCRIPTION:&lt;div&gt;Seit der Bronzezeit ist Feldmoching besiedelt und in der Zeit ab 800 wurde das Dorf (Feld-)Mochinga erstmals urkundlich erw&amp;auml;hnt. Der&amp;nbsp;Ehrenvorsitzende des &amp;bdquo;Kulturhistorischen Vereins Feldmoching auf dem Gfild e.V.&amp;quot; hat in diesem Film die Entwicklung des Stadtviertels im&amp;nbsp;Stadtbezirk 24 Feldmoching-Hasenbergl bis zur Er&amp;ouml;ffnung der U-Bahn-Linie dokumentiert. Die Geschichte wird lebendig durch die&amp;nbsp;zahlreichen Ausschnitte von Veranstaltungen der letzten 20 Jahre in Feldmoching, an die sich viele B&amp;uuml;rger/innen sicher erinnern werden.&amp;nbsp;&lt;/div&gt; &lt;div&gt;&amp;nbsp;&lt;/div&gt; &lt;div&gt;Die Veranstaltung findet im Rahmen der Stadtteilwoche Feldmoching-Hasenbergl-Nordhaide-Hart statt.&lt;/div&gt;
DTSTART:20120702T190000
DTEND:20120702T203000
LOCATION:Volkshochschule â€¢ Troppauer Str. 10
ORGANIZER:MVHS München Mitte   
END:VEVENT
END:VCALENDAR