BEGIN:VCALENDAR
VERSION:2.0
PRODID:-//Stadtgeschichte München//DE
CALSCALE:GREGORIAN
BEGIN:VEVENT
UID:2032@stadtgeschichte-muenchen.de
SUMMARY:Ein Blick hinter die Kulissen des Metropol-Theaters
DESCRIPTION:&lt;div&gt;Zum zehnten Geburtstag des &amp;bdquo;Metropol&amp;quot; in Freimann schrieb die Presse: &amp;bdquo;Theater vom Feinsten, wenn nicht hier-wo dann?&amp;quot; Der Weg&amp;nbsp;vom schwierigen finanziellen Start 1998 zur beliebten Kulturinstitution im ehemaligen Freimanner Vorstadtkino war mutig und nicht immer&amp;nbsp;leicht. Aber mit seinen erfolgreichen Inszenierungen auf kleiner B&amp;uuml;hne und einem 700 Mitglieder z&amp;auml;hlenden F&amp;ouml;rderverein hat sich das&amp;nbsp;Theaterteam inzwischen einen hohen Rang und Namen im st&amp;auml;dtischen Kulturleben erobert.&lt;/div&gt;
DTSTART:20120326T180000
DTEND:20120326T193000
LOCATION:im Kassenraum, Floriansmühlstr. 5, (U6 Freimann)
ORGANIZER:MVHS München Mitte   
END:VEVENT
END:VCALENDAR