BEGIN:VCALENDAR
VERSION:2.0
PRODID:-//Stadtgeschichte München//DE
CALSCALE:GREGORIAN
BEGIN:VEVENT
UID:2034@stadtgeschichte-muenchen.de
SUMMARY:Die Heilig-Kreuz-Kirche im ehemaligen Dorf Fröttmaning
DESCRIPTION:&lt;div&gt;Diese Kirche, eine Insel der Geschichte, ist das &amp;auml;lteste Gotteshaus im M&amp;uuml;nchner Stadtgebiet und die einzige romanische Kirche&amp;nbsp;Deutschlands, in der Fresken direkt auf Ziegel gemalt sind. Geschichte und Kunstsch&amp;auml;tze, aber auch der Kampf um den Erhalt dieses&amp;nbsp;Juwels, das mit der Aufl&amp;ouml;sung des Ortes Fr&amp;ouml;ttmaning und mit dem Bau der Autobahn ernsthaft bedroht war, werden bei dieser F&amp;uuml;hrung&amp;nbsp;authentisch, lebendig und anschaulich geschildert.&lt;/div&gt;
DTSTART:20120817T100000
DTEND:20120817T113000
LOCATION:Parkplatz vor der Kirche, Kurt-Landauer-Weg 8
ORGANIZER:MVHS München Mitte   
END:VEVENT
END:VCALENDAR