BEGIN:VCALENDAR
VERSION:2.0
PRODID:-//Stadtgeschichte München//DE
CALSCALE:GREGORIAN
BEGIN:VEVENT
UID:2035@stadtgeschichte-muenchen.de
SUMMARY:Stadtteilspaziergang Hasenbergl
DESCRIPTION:&lt;p&gt;In den sechziger Jahren wurden aufgrund der damaligen riesigen Flüchtlingsströme im Hasenbergl in nur fünf Jahren zahlreiche&amp;nbsp;Wohnungen in Einfachbauweise hochgezogen, um der großen Wohnungsnot zu begegnen. Schwerpunkt des Rundgangs ist die Entwicklung, die das Hasenbergl unter anderem durch das Projekt „Soziale Stadt&quot; erfahren hat: Verdichtung der Wohnbebauung, &amp;nbsp;Gestaltung neuer Plätze und Verbesserung der Einkaufsmöglichkeiten, Schaffung sozialer Treffpunkte und Beschäftigungsinitiativen für &amp;nbsp;Jugendliche. Im Rahmen der Stadtteilwoche Feldmoching-Hasenbergl-Nordhaide-Hart.&lt;/p&gt; 
DTSTART:20120629T150000
DTEND:20120629T180000
LOCATION:U-Bahnhof Dülferstr., Ausgang Dülferstr.
ORGANIZER:MVHS München Nord
END:VEVENT
END:VCALENDAR