BEGIN:VCALENDAR
VERSION:2.0
PRODID:-//Stadtgeschichte München//DE
CALSCALE:GREGORIAN
BEGIN:VEVENT
UID:2040@stadtgeschichte-muenchen.de
SUMMARY:Bilder leihen wie Bücher in einer Bibliothek
DESCRIPTION:&lt;div&gt;Wussten Sie, dass im Kulturhaus Milbertshofen ein Kunstverleih existiert? Aus mehr als 100 Originalen k&amp;ouml;nnen Sie dort das Bild ausleihen,&amp;nbsp;das Sie f&amp;uuml;r einige Wochen oder Monate in Ihren eigenen vier W&amp;auml;nden sehen m&amp;ouml;chten. Der Kunstverleih bringt zeitgen&amp;ouml;ssische Kunst&amp;nbsp;nach Milbertshofen. Schwerpunkt der Sammlung, die seit 2010 besteht und mit Hilfe der st&amp;auml;dtischen Artothek zusammengestellt wurde,&amp;nbsp;sind Werke aus M&amp;uuml;nchen: Gem&amp;auml;lde, Zeichnungen, Druckgrafiken und Fotografien. Bei dieser F&amp;uuml;hrung erfahren Sie mehr &amp;uuml;ber die&amp;nbsp;Exponate, &amp;uuml;ber Ausleihbedingungen und Leihfristen. In Kooperation mit dem Tr&amp;auml;gerverein Kulturhaus Milbertshofen.&lt;/div&gt;
DTSTART:20120322T180000
DTEND:20120322T193000
LOCATION:Kulturhaus Milbertshofen, Foyer, Curt-Mezger-Platz 1 
ORGANIZER:MVHS München Mitte   
END:VEVENT
END:VCALENDAR