BEGIN:VCALENDAR
VERSION:2.0
PRODID:-//Stadtgeschichte München//DE
CALSCALE:GREGORIAN
BEGIN:VEVENT
UID:2043@stadtgeschichte-muenchen.de
SUMMARY:Der Westfriedhof
DESCRIPTION:&lt;div&gt;Der 1898 von Hans Gr&amp;auml;ssel errichtete Westfriedhof ist mit seinen Bauten im florentinischen Stil und seiner Krypta eine bemerkenswerte&amp;nbsp;Anlage. Bei einem Rundgang wird ein Einblick in die Zeitgeschichte geboten. Hier liegt neben dem Maler Franz von Lenbach, Dichtern wie&amp;nbsp;Michl Ehbauer und Hugo H&amp;auml;rtung oder Architekten wie Bernhard Borst und Leonhard Romeis auch der SA-F&amp;uuml;hrer Ernst Rohm begraben. In&amp;nbsp;den letzten Jahren haben V&amp;auml;terchen Timofei und Sportmoderator Eberhard Stanjek hier ihre letzte Ruhe gefunden.&lt;/div&gt;
DTSTART:20120916T150000
DTEND:20120916T170000
LOCATION:Westfriedhof, vor der Aussegnungshalie, Baldurstr. 28
ORGANIZER:MVHS München Mitte   
END:VEVENT
END:VCALENDAR