BEGIN:VCALENDAR
VERSION:2.0
PRODID:-//Stadtgeschichte München//DE
CALSCALE:GREGORIAN
BEGIN:VEVENT
UID:2055@stadtgeschichte-muenchen.de
SUMMARY:Spaziergang durch Untergiesing
DESCRIPTION:&lt;div&gt;Geduckt unter dem Oberen Giesing mit der HI-Kreuz-Kirche und dem Gr&amp;uuml;nwalder Stadion liegt das von der Isar geformte Untergiesing. An&amp;nbsp;die Zeit, als dieses Gebiet noch Falkenau, Birkenau und Lohe hie&amp;szlig;, erinnern uns noch der Auer M&amp;uuml;hlbach und Herbergen. In dem ehemals&amp;nbsp;typischen Arbeiter- und Gewerbe-Viertel, in das sich zunehmend Moderne mischt, versucht man, alten Charme zu bewahren. Nach einem&amp;nbsp;circa einst&amp;uuml;ndigen Rundgang und kurzer Busfahrt f&amp;uuml;hrt der Weg zur Ukrainisch-Katholischen Kirche Maria Schutz mit Pfarrzentrum. In der&amp;nbsp;mit Ikonen ausgestalteten Kirche wird der Pfarrer etwas von der Geschichte, der Tradition und vom Ritus seiner Kirche sowie aus dem&amp;nbsp;Alltagsleben der Gemeinde erz&amp;auml;hlen.&lt;/div&gt; &lt;div&gt;&amp;nbsp;&lt;/div&gt; &lt;div&gt;Hinweis: Bitte eine MW-Karte (Kurzstrecke) f&amp;uuml;r die Busfahrt zur Kirche mitbringen.&lt;/div&gt;
DTSTART:20120316T140000
DTEND:20120316T160000
LOCATION:U-Bahnhof Candidplatz, Ausgang oben, unter der Brücke des Mittleren Rings, Ecke Pilgersheimer Str. 
ORGANIZER:MVHS München Mitte   
END:VEVENT
END:VCALENDAR